BEGIN:VCALENDAR
VERSION:2.0
PRODID:-//Devpost\, Inc.//Next Byte Hacks V2//EN
CALSCALE:GREGORIAN
BEGIN:VTIMEZONE
TZID:America/New_York
BEGIN:DAYLIGHT
DTSTART:20260308T030000
TZOFFSETFROM:-0500
TZOFFSETTO:-0400
RRULE:FREQ=YEARLY;BYDAY=2SU;BYMONTH=3
TZNAME:EDT
END:DAYLIGHT
BEGIN:STANDARD
DTSTART:20261101T010000
TZOFFSETFROM:-0400
TZOFFSETTO:-0500
RRULE:FREQ=YEARLY;BYDAY=1SU;BYMONTH=11
TZNAME:EST
END:STANDARD
END:VTIMEZONE
BEGIN:VEVENT
DTSTAMP:20260421T034503Z
UID:a3d5b27e-0406-42cb-822e-f94100348ef7
DTSTART;TZID=America/New_York:20260531T200000
DTEND;TZID=America/New_York:20260531T200000
DESCRIPTION:https://next-byte-hacks-v2.devpost.com/
SUMMARY:Next Byte Hacks V2 submission deadline
BEGIN:VALARM
ACTION:DISPLAY
TRIGGER:-P7D
SUMMARY:Just 7 left days until the submission deadline!
END:VALARM
END:VEVENT
END:VCALENDAR
